BEGIN:VCALENDAR
VERSION:2.0
PRODID:-//Kultur Ägeri - ECPv6.15.15//NONSGML v1.0//EN
CALSCALE:GREGORIAN
METHOD:PUBLISH
X-WR-CALNAME:Kultur Ägeri
X-ORIGINAL-URL:https://kulturaegeri.ch
X-WR-CALDESC:Veranstaltungen für Kultur Ägeri
REFRESH-INTERVAL;VALUE=DURATION:PT1H
X-Robots-Tag:noindex
X-PUBLISHED-TTL:PT1H
BEGIN:VTIMEZONE
TZID:Europe/Berlin
BEGIN:DAYLIGHT
TZOFFSETFROM:+0100
TZOFFSETTO:+0200
TZNAME:CEST
DTSTART:20220327T010000
END:DAYLIGHT
BEGIN:STANDARD
TZOFFSETFROM:+0200
TZOFFSETTO:+0100
TZNAME:CET
DTSTART:20221030T010000
END:STANDARD
BEGIN:DAYLIGHT
TZOFFSETFROM:+0100
TZOFFSETTO:+0200
TZNAME:CEST
DTSTART:20230326T010000
END:DAYLIGHT
BEGIN:STANDARD
TZOFFSETFROM:+0200
TZOFFSETTO:+0100
TZNAME:CET
DTSTART:20231029T010000
END:STANDARD
BEGIN:DAYLIGHT
TZOFFSETFROM:+0100
TZOFFSETTO:+0200
TZNAME:CEST
DTSTART:20240331T010000
END:DAYLIGHT
BEGIN:STANDARD
TZOFFSETFROM:+0200
TZOFFSETTO:+0100
TZNAME:CET
DTSTART:20241027T010000
END:STANDARD
BEGIN:DAYLIGHT
TZOFFSETFROM:+0100
TZOFFSETTO:+0200
TZNAME:CEST
DTSTART:20250330T010000
END:DAYLIGHT
BEGIN:STANDARD
TZOFFSETFROM:+0200
TZOFFSETTO:+0100
TZNAME:CET
DTSTART:20251026T010000
END:STANDARD
BEGIN:DAYLIGHT
TZOFFSETFROM:+0100
TZOFFSETTO:+0200
TZNAME:CEST
DTSTART:20260329T010000
END:DAYLIGHT
BEGIN:STANDARD
TZOFFSETFROM:+0200
TZOFFSETTO:+0100
TZNAME:CET
DTSTART:20261025T010000
END:STANDARD
END:VTIMEZONE
BEGIN:VEVENT
DTSTART;TZID=Europe/Berlin:20250823T203000
DTEND;TZID=Europe/Berlin:20250823T203000
DTSTAMP:20260419T163052
CREATED:20241105T093537Z
LAST-MODIFIED:20250604T144339Z
UID:10000520-1755981000-1755981000@kulturaegeri.ch
SUMMARY:Kino am Bach − «Ein verflixt schwieriges Jahr»
DESCRIPTION:Das Open-Air-Kino bei der Sebelis-Sage lebt von der Nähe zu Wald und Bach. An zwei Abenden werden Film-Leckerbissen mit themenbezogenem Essen präsentiert. \n«Ein verflixt schwieriges Jahr»\nRegie: Olivier Nakache\, Eric Toledano – Frankreich – 2023\nAlbert (Pio Marmaï) und Bruno (Jonathan Cohen) stecken tief in den roten Zahlen. Durch ihren übermässigen Konsum sind sie überschuldet. Gemeinsam beschliessen sie\, sich in der gemeinnützigen Arbeit zu engagieren. Auch wenn die Tat lobenswert scheint – die Gründe sind es weniger. Denn die beiden Männer sind bereit\, jede Gelegenheit zu nutzen\, um persönlichen Gewinn zu erzielen. \nDie Filme des französischen Regie-Duos Olivier Nakache und Eric Toledano überraschen immer wieder mit ihren originellen\, äusserst unterhaltsamen und warmherzigen Komödien\, die immer auch zum Nachdenken anregen. Mit «Ein verflixt schwieriges Jahr» gelingt es ihnen\, ein hinreissend charmantes Ensemble zusammenzubringen\, das mit viel Witz vermeintlich unvereinbare Gegensätze überwindet. \nFilmmenu\nFenchel überbacken mit Ziegenkäse und Kastanienhonig\n****\nPot au feu (Rind/vegi Pilze)\n****\nTarte Tatin \nVorverkauf: seetickets.com oder Schalter der Gemeinden Unterägeri und Oberägeri\nKultur-Bar mit themenbezogenem Essen und Getränken ab 19 Uhr\nFilmbeginn nach dem Eindunkeln um 20.30 Uhr\nPreis: Filmmenu & Kinoeintritt\, CHF 40.- / 35.- (Lernende/Studierende)\nKinoeintritt\, CHF 15.- / 10.- (Lernende/Studierende)\, freie Platzwahl \n  \n \nTICKETS
URL:https://kulturaegeri.ch/events/kino-am-bach-2025-samstag/
LOCATION:Sebelis Sage\, Alosenstrasse 9\, Oberägeri\, 6315\, Schweiz
CATEGORIES:Top-Event
ATTACH;FMTTYPE=image/webp:https://kulturaegeri.ch/wp-content/uploads/2024/11/aWcqE8wGN8Gv4VSPAGCqTFYy7aC-scaled-e1747746834973.webp
GEO:47.140983;8.621858
X-APPLE-STRUCTURED-LOCATION;VALUE=URI;X-ADDRESS=Sebelis Sage Alosenstrasse 9 Oberägeri 6315 Schweiz;X-APPLE-RADIUS=500;X-TITLE=Alosenstrasse 9:geo:8.621858,47.140983
END:VEVENT
BEGIN:VEVENT
DTSTART;TZID=Europe/Berlin:20250822T203000
DTEND;TZID=Europe/Berlin:20250822T203000
DTSTAMP:20260419T163052
CREATED:20241105T093445Z
LAST-MODIFIED:20250604T144202Z
UID:10000519-1755894600-1755894600@kulturaegeri.ch
SUMMARY:Kino am Bach − «Raindrop»
DESCRIPTION:Das Open-Air-Kino bei der Sebelis-Sage lebt von der Nähe zu Wald und Bach. An zwei Abenden werden Film-Leckerbissen mit themenbezogenem Essen präsentiert. \n«Raindrop»\nRegie: Marco Dominik Graf – Schweiz – 2025\nIm neuen Kino-Dokumentarfilm «Raindrop» begleiten wir das Wasser auf seiner langen Reise von den höchsten Gipfeln der Alpen bis in die Weiten des Ozeans. Wohl kaum ein Element auf unserem Planeten ist wichtiger als Wasser. Dort\, wo Wasser ist\, gedeiht das Leben. Aber nur die wenigsten wissen\, welch wunderbare Geschöpfe in den heimischen Lebensräumen am Wasser täglich ihr Leben meistern. Fernab von unseren Blicken geschehen täglich wahre Dramen und Glorien. Geschichten\, die kaum jemand zu Gesicht bekommt. Geschichten voller Abenteuer\, Tragik\, Komik und sogar Liebe. \nDer Regisseur Marco Dominik Graf wird persönlich bei der Filmvorführung anwesend sein und im Anschluss in einer Frage- und Diskussionsrunde von seinen Erfahrungen bei den Dreharbeiten des Filmes berichten. \nFilmmenu\nGemischter Salat\n****\nForellenfilet an Peterlisauce\, (Vegi: Pilze an Peterlisauce)\nPlain in Pigna (Bündner Ofenrösti)\n****\nHeidelbeertarte \nVorverkauf: seetickets.com oder Schalter der Gemeinden Unterägeri und Oberägeri\nKultur-Bar mit themenbezogenem Essen und Getränken ab 19 Uhr\nFilmbeginn nach dem Eindunkeln um 20.30 Uhr\nPreis: Filmmenu & Kinoeintritt\, CHF 40.- / 35.- (Lernende/Studierende)\nKinoeintritt\, CHF 15.- / 10.- (Lernende/Studierende)\, freie Platzwahl \n  \n \nTICKETS
URL:https://kulturaegeri.ch/events/kino-am-bach-2025-freitag/
LOCATION:Sebelis Sage\, Alosenstrasse 9\, Oberägeri\, 6315\, Schweiz
CATEGORIES:Top-Event
ATTACH;FMTTYPE=image/jpeg:https://kulturaegeri.ch/wp-content/uploads/2024/11/Plakat-clear-quadratisch-scaled.jpg
GEO:47.140983;8.621858
X-APPLE-STRUCTURED-LOCATION;VALUE=URI;X-ADDRESS=Sebelis Sage Alosenstrasse 9 Oberägeri 6315 Schweiz;X-APPLE-RADIUS=500;X-TITLE=Alosenstrasse 9:geo:8.621858,47.140983
END:VEVENT
BEGIN:VEVENT
DTSTART;TZID=Europe/Berlin:20240824T203000
DTEND;TZID=Europe/Berlin:20240824T203000
DTSTAMP:20260419T163052
CREATED:20240314T110514Z
LAST-MODIFIED:20240702T071252Z
UID:10000492-1724531400-1724531400@kulturaegeri.ch
SUMMARY:Kino am Bach − «Die Nachbarn von Oben»
DESCRIPTION:Samstag\, 24. August «Die Nachbarn von Oben»\nRegie: Sabine Boss – Schweiz – 2023\n«Die Nachbarn von Oben» ist wie das Leben selbst: Es wird gelacht\, geweint\, getröstet\, geliebt und gestritten. Für ihre Komödie konnte Sabine Boss mit Ursina Lardi\, Roeland Wiesnekker\, Sarah Spale und Max Simonischek ein hochkarätiges Schauspiel-Ensemble gewinnen. Das wilde Liebesleben des benachbarten Paares lässt bei Anna und Thomas die Bilder an den Wänden wackeln\, während ihre Beziehung mittlerweile so prickelnd wie eine abgestandene Cola ist. Als Anna die Nachbarn auch noch zum Apéro einlädt und diese ein überraschend pikantes Angebot unterbreiten\, überschlagen sich die Ereignisse: Die Nacht wird zu einem Moment der Wahrheit… \nZur Eröffnung des Abends wird der Kurzfilm «A Revair» präsentiert\, bei dem der Oberägerer Filmemacher Ben Zäch als Kameramann und Produzent mitgewirkt hat. \nVorverkauf: starticket.ch oder Schalter der Gemeinden Unterägeri und Oberägeri\nKultur-Bar mit themenbezogenem Essen und Getränken ab 19 Uhr\nFilmbeginn nach dem Eindunkeln um 20.30 Uhr\nPreis: Filmmenu & Kinoeintritt\, CHF 35.- / 30.- (Lernende/Studierende)\nKinoeintritt\, CHF 15.- / 10.- (Lernende/Studierende)\, freie Platzwahl \n  \n \nTICKETS
URL:https://kulturaegeri.ch/events/kino-am-bach-am-samstag/
LOCATION:Sebelis Sage\, Alosenstrasse 9\, Oberägeri\, 6315\, Schweiz
CATEGORIES:Top-Event
ATTACH;FMTTYPE=image/jpeg:https://kulturaegeri.ch/wp-content/uploads/2024/03/Kino-am-Bach-Die-Nachbarn-von-Oben-1600x1600-1.jpg
GEO:47.140983;8.621858
X-APPLE-STRUCTURED-LOCATION;VALUE=URI;X-ADDRESS=Sebelis Sage Alosenstrasse 9 Oberägeri 6315 Schweiz;X-APPLE-RADIUS=500;X-TITLE=Alosenstrasse 9:geo:8.621858,47.140983
END:VEVENT
BEGIN:VEVENT
DTSTART;TZID=Europe/Berlin:20240823T203000
DTEND;TZID=Europe/Berlin:20240823T203000
DTSTAMP:20260419T163052
CREATED:20240314T110342Z
LAST-MODIFIED:20240624T050834Z
UID:10000491-1724445000-1724445000@kulturaegeri.ch
SUMMARY:Kino am Bach − «Der Bär in mir»
DESCRIPTION:Freitag\, 23. August «Der Bär in mir»\nRegie: Roman Droux – Schweiz – 2019\nAm äussersten Ende Alaskas erfüllt sich für den weitgereisten Filmemacher Roman Droux ein Traum. Er taucht in die Welt jenes Fabeltiers ein\, das ihn seit seiner Kindheit fasziniert und in den Schlaf begleitete. Der bekannte Bärenforscher David Bittner nimmt ihn mit in das Land der Bären. In die vielleicht letzte Wildnis Nordamerikas. Ein Küstengebirge umgeben von endlosen\, menschenleeren Stränden. Eine Welt\, in der die Grizzlybären das Sagen haben\, und keine Spur menschlicher Zivilisation zu finden ist. \nDavid Bittner wird persönlich bei der Filmvorführung anwesend sein und im Anschluss in einer Frage- und Diskussionsrunde von seinen Begegnungen mit den Bären berichten. \nVorverkauf: starticket.ch oder Schalter der Gemeinden Unterägeri und Oberägeri\nKultur-Bar mit themenbezogenem Essen und Getränken ab 19 Uhr\nFilmbeginn nach dem Eindunkeln um 20.30 Uhr\nPreis: Filmmenu & Kinoeintritt\, CHF 35.- / 30.- (Lernende/Studierende)\nKinoeintritt\, CHF 15.- / 10.- (Lernende/Studierende)\, freie Platzwahl \n  \n \nTICKETS
URL:https://kulturaegeri.ch/events/kino-am-bach-freitag/
LOCATION:Sebelis Sage\, Alosenstrasse 9\, Oberägeri\, 6315\, Schweiz
CATEGORIES:Top-Event
ATTACH;FMTTYPE=image/jpeg:https://kulturaegeri.ch/wp-content/uploads/2024/03/Kino-am-Bach-Der-Baer-in-mir-1600x1600-1.jpg
GEO:47.140983;8.621858
X-APPLE-STRUCTURED-LOCATION;VALUE=URI;X-ADDRESS=Sebelis Sage Alosenstrasse 9 Oberägeri 6315 Schweiz;X-APPLE-RADIUS=500;X-TITLE=Alosenstrasse 9:geo:8.621858,47.140983
END:VEVENT
BEGIN:VEVENT
DTSTART;TZID=Europe/Berlin:20230826T203000
DTEND;TZID=Europe/Berlin:20230826T203000
DTSTAMP:20260419T163052
CREATED:20230706T083827Z
LAST-MODIFIED:20230822T071639Z
UID:10000438-1693081800-1693081800@kulturaegeri.ch
SUMMARY:Kino am Bach − «Drii Winter»
DESCRIPTION:Samstag\, 26. August «Drii Winter»\nRegie: Michael Koch – Schweiz\, Deutschland – 2022\nDer robuste Marco arbeitet seit einiger Zeit als Hilfskraft bei einem Innerschweizer Bergbauern und hat eine wortkarge\, aber zärtliche Liebschaft mit der einheimischen Kellnerin Anna angefangen\, die aus einer früheren Beziehung eine Tochter hat. Im Dorf registriert man die Liaison mit wohlwollender Skepsis. Nachdem bei Marco ein Tumor operiert worden ist\, entwickelt er unversehens seltsame Verhaltensweisen. Sie stellen Annas Liebe und Marcos Akzeptanz im Dorf auf eine harte Probe. \nIn Zusammenarbeit mit den Zuger Filmtagen werden an beiden Abenden zur Eröffnung themenbezogene Kurzfilme präsentiert. \n  \nVorverkauf: tsk@oberaegeri.ch oder Tel. 041 723 80 48\nPreis: Filmmenu & Kinoeintritt\, CHF 35.- / 30.- (Lernende/Studierende) Kinoeintritt\, CHF 15.- / 10.- (Lernende/Studierende)\, freie Platzwahl \nKultur-Bar mit Essen aus der Urner Küche und Getränken ab 19 Uhr\nFilmbeginn nach dem Eindunkeln um 20.30 Uhr
URL:https://kulturaegeri.ch/events/kino-am-bach-drii-winter/
LOCATION:Sebelis Sage\, Alosenstrasse 9\, Oberägeri\, 6315\, Schweiz
ATTACH;FMTTYPE=image/jpeg:https://kulturaegeri.ch/wp-content/uploads/2023/07/ko_vorlage_filmstreifen_kinoambach_rz2-1-e1688631570167.jpg
GEO:47.140983;8.621858
X-APPLE-STRUCTURED-LOCATION;VALUE=URI;X-ADDRESS=Sebelis Sage Alosenstrasse 9 Oberägeri 6315 Schweiz;X-APPLE-RADIUS=500;X-TITLE=Alosenstrasse 9:geo:8.621858,47.140983
END:VEVENT
BEGIN:VEVENT
DTSTART;TZID=Europe/Berlin:20230825T203000
DTEND;TZID=Europe/Berlin:20230825T203000
DTSTAMP:20260419T163052
CREATED:20230706T082709Z
LAST-MODIFIED:20230822T071541Z
UID:10000401-1692995400-1692995400@kulturaegeri.ch
SUMMARY:Kino am Bach − «Utama»
DESCRIPTION:Freitag\, 25. August «Utama»\nRegie: Alejandro Loayza Grisi – Bolivien – 2022\nIm trockenen bolivianischen Hochland der Anden lebt ein älteres Quechua-Ehepaar. Mitten in einer Dürre erkrankt Virginio und verbringt seine letzten Tage im Wissen um seinen bevorstehenden Tod damit\, seine Krankheit vor Sisa zu verbergen. Alles verändert sich durch die Ankunft des Enkels Clever\, der mit Neuigkeiten zu Besuch kommt. Die drei stellen sich auf unterschiedliche Weise der Dürre\, den Veränderungen und dem Sinn des Lebens. \nIn Zusammenarbeit mit den Zuger Filmtagen werden an beiden Abenden zur Eröffnung themenbezogene Kurzfilme präsentiert. \n  \nVorverkauf: tsk@oberaegeri.ch oder Tel. 041 723 80 48\nPreis: Filmmenu & Kinoeintritt\, CHF 35.- / 30.- (Lernende/Studierende) Kinoeintritt\, CHF 15.- / 10.- (Lernende/Studierende)\, freie Platzwahl \nKultur-Bar mit Essen aus der bolivianischen Küche und Getränken ab 19 Uhr\nFilmbeginn nach dem Eindunkeln um 20.30 Uhr
URL:https://kulturaegeri.ch/events/kino-am-bach-utama/
LOCATION:Sebelis Sage\, Alosenstrasse 9\, Oberägeri\, 6315\, Schweiz
CATEGORIES:Top-Event
ATTACH;FMTTYPE=image/jpeg:https://kulturaegeri.ch/wp-content/uploads/2023/07/ko_vorlage_filmstreifen_kinoambach_rz2-1-e1688631570167.jpg
GEO:47.140983;8.621858
X-APPLE-STRUCTURED-LOCATION;VALUE=URI;X-ADDRESS=Sebelis Sage Alosenstrasse 9 Oberägeri 6315 Schweiz;X-APPLE-RADIUS=500;X-TITLE=Alosenstrasse 9:geo:8.621858,47.140983
END:VEVENT
END:VCALENDAR