BEGIN:VCALENDAR
VERSION:2.0
PRODID:-//Kultur Ägeri - ECPv6.15.15//NONSGML v1.0//EN
CALSCALE:GREGORIAN
METHOD:PUBLISH
X-WR-CALNAME:Kultur Ägeri
X-ORIGINAL-URL:https://kulturaegeri.ch
X-WR-CALDESC:Veranstaltungen für Kultur Ägeri
REFRESH-INTERVAL;VALUE=DURATION:PT1H
X-Robots-Tag:noindex
X-PUBLISHED-TTL:PT1H
BEGIN:VTIMEZONE
TZID:Europe/Berlin
BEGIN:DAYLIGHT
TZOFFSETFROM:+0100
TZOFFSETTO:+0200
TZNAME:CEST
DTSTART:20250330T010000
END:DAYLIGHT
BEGIN:STANDARD
TZOFFSETFROM:+0200
TZOFFSETTO:+0100
TZNAME:CET
DTSTART:20251026T010000
END:STANDARD
BEGIN:DAYLIGHT
TZOFFSETFROM:+0100
TZOFFSETTO:+0200
TZNAME:CEST
DTSTART:20260329T010000
END:DAYLIGHT
BEGIN:STANDARD
TZOFFSETFROM:+0200
TZOFFSETTO:+0100
TZNAME:CET
DTSTART:20261025T010000
END:STANDARD
BEGIN:DAYLIGHT
TZOFFSETFROM:+0100
TZOFFSETTO:+0200
TZNAME:CEST
DTSTART:20270328T010000
END:DAYLIGHT
BEGIN:STANDARD
TZOFFSETFROM:+0200
TZOFFSETTO:+0100
TZNAME:CET
DTSTART:20271031T010000
END:STANDARD
END:VTIMEZONE
BEGIN:VEVENT
DTSTART;TZID=Europe/Berlin:20260821T203000
DTEND;TZID=Europe/Berlin:20260821T203000
DTSTAMP:20260421T095739
CREATED:20260306T130024Z
LAST-MODIFIED:20260306T130223Z
UID:10000586-1787344200-1787344200@kulturaegeri.ch
SUMMARY:Kino am Bach
DESCRIPTION:Das Open-Air-Kino bei der Sebelis-Sage lebt von der Nähe zu Wald und Bach. An zwei Abenden werden Film-Leckerbissen mit themenbezogenem Essen präsentiert. \nDer Vorverkauf zum Kino am Bach startet voraussichtlich im Mai 2026
URL:https://kulturaegeri.ch/events/kino-am-bach-2026-freitag/
LOCATION:Sebelis Sage\, Alosenstrasse 9\, Oberägeri\, 6315\, Schweiz
CATEGORIES:Top-Event
ATTACH;FMTTYPE=image/jpeg:https://kulturaegeri.ch/wp-content/uploads/2024/03/AdobeStock_38070606-1-1-scaled-e1710414076229.jpg
GEO:47.140983;8.621858
X-APPLE-STRUCTURED-LOCATION;VALUE=URI;X-ADDRESS=Sebelis Sage Alosenstrasse 9 Oberägeri 6315 Schweiz;X-APPLE-RADIUS=500;X-TITLE=Alosenstrasse 9:geo:8.621858,47.140983
END:VEVENT
BEGIN:VEVENT
DTSTART;TZID=Europe/Berlin:20260822T203000
DTEND;TZID=Europe/Berlin:20260822T203000
DTSTAMP:20260421T095739
CREATED:20260306T130205Z
LAST-MODIFIED:20260306T130205Z
UID:10000587-1787430600-1787430600@kulturaegeri.ch
SUMMARY:Kino am Bach
DESCRIPTION:Das Open-Air-Kino bei der Sebelis-Sage lebt von der Nähe zu Wald und Bach. An zwei Abenden werden Film-Leckerbissen mit themenbezogenem Essen präsentiert. \nDer Vorverkauf zum Kino am Bach startet voraussichtlich im Mai 2026
URL:https://kulturaegeri.ch/events/kino-am-bach-2026-samstag/
LOCATION:Sebelis Sage\, Alosenstrasse 9\, Oberägeri\, 6315\, Schweiz
CATEGORIES:Top-Event
ATTACH;FMTTYPE=image/jpeg:https://kulturaegeri.ch/wp-content/uploads/2024/03/AdobeStock_38070606-1-1-scaled-e1710414076229.jpg
GEO:47.140983;8.621858
X-APPLE-STRUCTURED-LOCATION;VALUE=URI;X-ADDRESS=Sebelis Sage Alosenstrasse 9 Oberägeri 6315 Schweiz;X-APPLE-RADIUS=500;X-TITLE=Alosenstrasse 9:geo:8.621858,47.140983
END:VEVENT
END:VCALENDAR